BEGIN:VCALENDAR
VERSION:2.0
METHOD:PUBLISH
PRODID:-//imacoda.com//SPD-Web-O-Mat//EN
CALSCALE:GREGORIAN
BEGIN:VTIMEZONE
TZID:Europe/Berlin
BEGIN:DAYLIGHT
TZOFFSETFROM:+0100
RRULE:FREQ=YEARLY;BYMONTH=3;BYDAY=-1SU
DTSTART:19810329T020000
TZNAME:MESZ
TZOFFSETTO:+0200
END:DAYLIGHT
BEGIN:STANDARD
TZOFFSETFROM:+0200
RRULE:FREQ=YEARLY;BYMONTH=10;BYDAY=-1SU
DTSTART:19961027T030000
TZNAME:MEZ
TZOFFSETTO:+0100
END:STANDARD
END:VTIMEZONE
BEGIN:VEVENT
UID:20260421T194007Z-00001187540-LULU@www.bayernspd.de
CREATED:20260421T194007Z
LAST-MODIFIED:20260421T194007Z
DTSTAMP:20260421T194007Z
TRANSP:TRANSPARENT
DTSTART;TZID=Europe/Berlin:20260425T153000
DTEND;TZID=Europe/Berlin:20260425T153000
SUMMARY:FCA - Eintracht Frankfurt
LOCATION:WWK Arena
DESCRIPTION:Termin im Web (Harald Güller):\nhttps://harald-gueller.de/te
 rmine/?id=1187540
END:VEVENT
END:VCALENDAR
